BEGIN:VCALENDAR
PRODID:-//eluceo/ical//2.0/EN
VERSION:2.0
CALSCALE:GREGORIAN
BEGIN:VEVENT
UID:f2e391d97fe8b6c0987d04acac5fe436
DTSTAMP:20260424T135116Z
SUMMARY:Canadian Immigrant Fair
DESCRIPTION:UJA Federation of Greater Toronto\nJewish Toronto Calendar\nhtt
 ps://jewishtoronto.com/calendar/canadian-immigrant-fair-1684951394\n\nCana
 dian Immigrant is proud to announce the Canadian Immigrant Fair for newcom
 ers is returning to Toronto on June 22nd\, 2023 in association with Kodoo 
 Mobile!
DTSTART;TZID=America/Toronto:20230622T100000
DTEND;TZID=America/Toronto:20230622T150000
END:VEVENT
END:VCALENDAR
