BEGIN:VCALENDAR
PRODID:-//eluceo/ical//2.0/EN
VERSION:2.0
CALSCALE:GREGORIAN
BEGIN:VEVENT
UID:087985215ca688b54d6f90d3052760e2
DTSTAMP:20260421T160008Z
SUMMARY:Canadian Friends of the Hebrew University of Jerusalem - The Einste
 in Gala
DESCRIPTION:UJA Federation of Greater Toronto\nJewish Toronto Calendar\nhtt
 ps://jewishtoronto.com/calendar/canadian-friends-of-the-hebrew-university-
 of-jerusalem---the-einstein-gala-1479920675\n\nThe Canadian Friends of the
  Hebrew University of Jerusalem Hosts Our Third Annual Einstein Gala!
DTSTART;TZID=America/Toronto:20170524T170000
DTEND;TZID=America/Toronto:20170524T220000
END:VEVENT
END:VCALENDAR
