BEGIN:VCALENDAR
PRODID:-//eluceo/ical//2.0/EN
VERSION:2.0
CALSCALE:GREGORIAN
BEGIN:VEVENT
UID:945858a6adecb526504ba4f11aae0ade
DTSTAMP:20260422T182626Z
SUMMARY:Canadian Friends of Tel Aviv University Golf Classic
DESCRIPTION:UJA Federation of Greater Toronto\nJewish Toronto Calendar\nhtt
 ps://jewishtoronto.com/calendar/canadian-friends-of-tel-aviv-university-go
 lf-classic-1519223428\n\nA day at the golf course featuring Toronto Blue J
 ay's Kevin Pillar
DTSTART;TZID=America/Toronto:20180614T103000
DTEND;TZID=America/Toronto:20180614T200000
END:VEVENT
END:VCALENDAR
