BEGIN:VCALENDAR
PRODID:-//eluceo/ical//2.0/EN
VERSION:2.0
CALSCALE:GREGORIAN
BEGIN:VEVENT
UID:2047b94df3341dbb6e75bd73e1b91d24
DTSTAMP:20260421T085933Z
SUMMARY:Canadian Friends of Shalva Virtual Game Night
DESCRIPTION:UJA Federation of Greater Toronto\nJewish Toronto Calendar\nhtt
 ps://jewishtoronto.com/calendar/canadian-friends-of-shalva-virtual-game-ni
 ght-1614713791\n\nShalva's First Virtual Game Night for all ages
DTSTART;TZID=America/Toronto:20210413T000000
DTEND;TZID=America/Toronto:20210413T000000
END:VEVENT
END:VCALENDAR
