BEGIN:VCALENDAR
PRODID:-//eluceo/ical//2.0/EN
VERSION:2.0
CALSCALE:GREGORIAN
BEGIN:VEVENT
UID:4316d72249d030d92f6a180d759452f7
DTSTAMP:20260422T190145Z
SUMMARY:Canadian Friends of Shalva Private Chef Dinner
DESCRIPTION:UJA Federation of Greater Toronto\nJewish Toronto Calendar\nhtt
 ps://jewishtoronto.com/calendar/canadian-friends-of-shalva-private-chef-di
 nner\n\nCanadian Friends of Shalva Private Chef Dinner.
DTSTART;TZID=America/Toronto:20230510T000000
DTEND;TZID=America/Toronto:20230510T000000
END:VEVENT
END:VCALENDAR
