BEGIN:VCALENDAR
PRODID:-//eluceo/ical//2.0/EN
VERSION:2.0
CALSCALE:GREGORIAN
BEGIN:VEVENT
UID:6d2ce80f836d9e136ea1ef87436c7c03
DTSTAMP:20260421T113718Z
SUMMARY:Canadian Friends of SHALVA presents Shalva Mahj Night
DESCRIPTION:UJA Federation of Greater Toronto\nJewish Toronto Calendar\nhtt
 ps://jewishtoronto.com/calendar/canadian-friends-of-shalva-presents-shalva
 -mahj-night\n\nCanadian Friends of SHALVA presents Shalva Mahj Night
DTSTART;TZID=America/Toronto:20160510T190000
DTEND;TZID=America/Toronto:20160510T203000
END:VEVENT
END:VCALENDAR
