BEGIN:VCALENDAR
PRODID:-//eluceo/ical//2.0/EN
VERSION:2.0
CALSCALE:GREGORIAN
BEGIN:VEVENT
UID:172d8299144f6a8840b05faffaa344b4
DTSTAMP:20260422T223113Z
SUMMARY:Canadian Friends of Shalva Chef Night 2024
DESCRIPTION:UJA Federation of Greater Toronto\nJewish Toronto Calendar\nhtt
 ps://jewishtoronto.com/calendar/canadian-friends-of-shalva-chef-night-2024
 \n\nDetails to follow.
DTSTART;TZID=America/Toronto:20240509T180000
DTEND;TZID=America/Toronto:20240509T230000
END:VEVENT
END:VCALENDAR
