BEGIN:VCALENDAR
PRODID:-//eluceo/ical//2.0/EN
VERSION:2.0
CALSCALE:GREGORIAN
BEGIN:VEVENT
UID:15db53b9e37cc4f76d4ad4e924e1f44b
DTSTAMP:20260421T073437Z
SUMMARY:Canada Israel Fashion Week - Modest &Extravagant Runway Show
DESCRIPTION:UJA Federation of Greater Toronto\nJewish Toronto Calendar\nhtt
 ps://jewishtoronto.com/calendar/canada-israel-fashion-week---modest-extrav
 agant-runway-show-1729586102\n\nWelcome to Canada Israel Fashion Week! Joi
 n us for 3 days and nights of glamour\, style\, and creativity. Get ready 
 to witness the fusion of Canadian Jewish and Israeli fashion in an unforge
 ttable evening in an enchanted forest style setting. In addition to a spec
 tacular performance and runway show\, enjoy our floral and art exhibition\
 , luxury market while sipping on your favorite drinks. Experience Israeli 
 inspired Hors D```&#039\;Oeuvres made by our amazing chefs. VIP tickets in
 clude Guaranteed...
DTSTART;TZID=America/Toronto:20241124T140000
DTEND;TZID=America/Toronto:20241124T230000
END:VEVENT
END:VCALENDAR
