BEGIN:VCALENDAR
PRODID:-//eluceo/ical//2.0/EN
VERSION:2.0
CALSCALE:GREGORIAN
BEGIN:VEVENT
UID:098bd601b22593a69d45b92d8279a7b4
DTSTAMP:20260421T105429Z
SUMMARY:Camp Shomria winter Camp
DESCRIPTION:UJA Federation of Greater Toronto\nJewish Toronto Calendar\nhtt
 ps://jewishtoronto.com/calendar/camp-shomria-winter-camp-1664676404\n\nChi
 ldren in grades 1-12 are welcome to join Winter Camp of Camp Shomria / Has
 homer Hatzair. This event requires registration.  More details coming up s
 oon in our website! For more details please contact Maydan at shaliach@cam
 pshomria.ca
DTSTART;TZID=America/Toronto:20230102T080000
DTEND;TZID=America/Toronto:20230105T160000
END:VEVENT
END:VCALENDAR
