BEGIN:VCALENDAR
PRODID:-//eluceo/ical//2.0/EN
VERSION:2.0
CALSCALE:GREGORIAN
BEGIN:VEVENT
UID:c5fa8ed5168754319784e1295dc7565b
DTSTAMP:20260420T071312Z
SUMMARY:Camp Shomria - Lag BaOmer Ken
DESCRIPTION:UJA Federation of Greater Toronto\nJewish Toronto Calendar\nhtt
 ps://jewishtoronto.com/calendar/camp-shomria---lag-baomer-ken-1664677012\n
 \nChildren in grades 1-12 are welcome to join the year round programming o
 f Camp Shomria / Hashomer Hatzair in Toronto.  This event requires registr
 ation.  For more details please contact Maydan at shaliach@campshomria.ca
DTSTART;TZID=America/Toronto:20230513T170000
DTEND;TZID=America/Toronto:20230513T200000
END:VEVENT
END:VCALENDAR
