BEGIN:VCALENDAR
PRODID:-//eluceo/ical//2.0/EN
VERSION:2.0
CALSCALE:GREGORIAN
BEGIN:VEVENT
UID:8fd171c8b91e21dca356c35de716f8d4
DTSTAMP:20260424T100134Z
SUMMARY:Camp Shomria - Ice Skating Ken
DESCRIPTION:UJA Federation of Greater Toronto\nJewish Toronto Calendar\nhtt
 ps://jewishtoronto.com/calendar/camp-shomria---ice-skating-ken-1664676631\
 n\nChildren in grades 1-12 are welcome to join the year round programming 
 of Camp Shomria / Hashomer Hatzair in Toronto.  This event requires regist
 ration.  For more details please contact Maydan at shaliach@campshomria.ca
DTSTART;TZID=America/Toronto:20230218T140000
DTEND;TZID=America/Toronto:20230218T160000
END:VEVENT
END:VCALENDAR
