BEGIN:VCALENDAR
PRODID:-//eluceo/ical//2.0/EN
VERSION:2.0
CALSCALE:GREGORIAN
BEGIN:VEVENT
UID:44336f030be30f94a1642f9a1232bce6
DTSTAMP:20260419T200544Z
SUMMARY:Camp Shomria - 75 Years of Israel Ken
DESCRIPTION:UJA Federation of Greater Toronto\nJewish Toronto Calendar\nhtt
 ps://jewishtoronto.com/calendar/camp-shomria---75-years-of-israel-ken-1664
 676937\n\nChildren in grades 1-12 are welcome to join the year round progr
 amming of Camp Shomria / Hashomer Hatzair in Toronto.\nThis event requires
  registration.\nFor more details please contact Maydan at shaliach@campsho
 mria.ca
DTSTART;TZID=America/Toronto:20230422T140000
DTEND;TZID=America/Toronto:20230422T160000
END:VEVENT
END:VCALENDAR
