BEGIN:VCALENDAR
PRODID:-//eluceo/ical//2.0/EN
VERSION:2.0
CALSCALE:GREGORIAN
BEGIN:VEVENT
UID:e8cbf858d32e4dfb45fb92b9d971aa98
DTSTAMP:20260425T162701Z
SUMMARY:Camp Ramah in Canada Information Session
DESCRIPTION:UJA Federation of Greater Toronto\nJewish Toronto Calendar\nhtt
 ps://jewishtoronto.com/calendar/camp-ramah-in-canada-information-session-1
 484765392\n\nMeet Camp Directors\, learn about exciting plans for summer 2
 017\, and receive special Ramah giveaways. All Information Sessions includ
 e a light dinner and an activity for prospective campers. To RSVP please c
 ontact Aily Leibtag\, Program Director\, at aily@campramah.com or 416-789-
 2193 x2511.
DTSTART;TZID=America/Toronto:20170209T183000
DTEND;TZID=America/Toronto:20170209T203000
END:VEVENT
END:VCALENDAR
