BEGIN:VCALENDAR
PRODID:-//eluceo/ical//2.0/EN
VERSION:2.0
CALSCALE:GREGORIAN
BEGIN:VEVENT
UID:bc45f1ac82c0f3d83976dd6eaa936da9
DTSTAMP:20260423T124726Z
SUMMARY:Camp Northland B'nai Brith ( NBB) - Alumni Weekend
DESCRIPTION:UJA Federation of Greater Toronto\nJewish Toronto Calendar\nhtt
 ps://jewishtoronto.com/calendar/camp-northland-bnai-brith--nbb---alumni-we
 ekend-1470866315\n\nAlumni Weekend Activities Includes\n(Final Schedule an
 d Inclusions TBD)\n•Water Skiing\n•Swimming in beautiful Moose Lake\n
 •Land Sports (Hockey\, Basketball\, Softball)\n•A&C\n•Sail\n•Paddl
 e\n•Music\n•Ropes/Adventure\n•Evening Program including Burning of t
 he NBB\n•Kids’ Camp\n\nAlumni Weekend Focus\nCelebrate the generations
  and heart of NBB\n•An Alumni Volunteer/Donor celebration and acknowledg
 ement during dinner\n•Tours of the new NBB...
DTSTART;TZID=America/Toronto:20160910T090000
DTEND;TZID=America/Toronto:20160911T150000
END:VEVENT
END:VCALENDAR
