BEGIN:VCALENDAR
PRODID:-//eluceo/ical//2.0/EN
VERSION:2.0
CALSCALE:GREGORIAN
BEGIN:VEVENT
UID:9e9e9a2ba478dae0f923d24bc4ac749a
DTSTAMP:20260420T231845Z
SUMMARY:Camp Day of Giving 2023
DESCRIPTION:UJA Federation of Greater Toronto\nJewish Toronto Calendar\nhtt
 ps://jewishtoronto.com/calendar/camp-day-of-giving-2023\n\nCamp Day of Giv
 ing
DTSTART;TZID=America/Toronto:20230427T000000
DTEND;TZID=America/Toronto:20230427T235959
END:VEVENT
END:VCALENDAR
