BEGIN:VCALENDAR
PRODID:-//eluceo/ical//2.0/EN
VERSION:2.0
CALSCALE:GREGORIAN
BEGIN:VEVENT
UID:2110a645d8e0fd3cbf96cab5b7b70a91
DTSTAMP:20260424T163206Z
SUMMARY:Camp Beth Sholom Week 2 Begins!
DESCRIPTION:UJA Federation of Greater Toronto\nJewish Toronto Calendar\nhtt
 ps://jewishtoronto.com/calendar/camp-beth-sholom-week-2-begins-1439316269\
 n\nBeth Sholom Synagogue is excited to offer a two - week day camp at the 
 end of the summer\, for children ages 5-12!  Experienced staff members wil
 l lead the children through exciting water games\, recreational swim\, Spo
 rts With Jay\, crafts\, engaging Jewish programming\, visits from Whimz an
 d magicians and even field trips. Bottom line....this camp is something th
 at your children will not want to miss! You can sign up for either one or 
 both sessions for only $250.00 a week. Camp runs from 9:00AM-4...
DTSTART;TZID=America/Toronto:20150831T090000
DTEND;TZID=America/Toronto:20150831T160000
END:VEVENT
END:VCALENDAR
