BEGIN:VCALENDAR
PRODID:-//eluceo/ical//2.0/EN
VERSION:2.0
CALSCALE:GREGORIAN
BEGIN:VEVENT
UID:51ec79ce50bbacd482c42b0027be3185
DTSTAMP:20260420T183426Z
SUMMARY: Building a Heart - It Takes a Community!
DESCRIPTION:UJA Federation of Greater Toronto\nJewish Toronto Calendar\nhtt
 ps://jewishtoronto.com/calendar/building-a-heart-it-takes-a-community\n\nJ
 oin us as we premiere a documentary film about Heart to Heart highlighting
  the experiences of our 2014 participants.\n\nKeynote address by Usnat Ata
 mna joining us from the Givat Haviva Education Institute in Israel.\n\nDoo
 rs Open at 6:30pm -- Program Begins at 7:30pm \n\nSilent auction and raffl
 e. Live music and dancing to follow main program.\n\nAdvance Registration 
 is Required\n\nDinner is optional.  Dinner reservations guarantee seating
 \, and can be made by contacting Lula Lounge at 416.5...
DTSTART;TZID=America/Toronto:20150415T193000
DTEND;TZID=America/Toronto:20150415T223000
END:VEVENT
END:VCALENDAR
