BEGIN:VCALENDAR
PRODID:-//eluceo/ical//2.0/EN
VERSION:2.0
CALSCALE:GREGORIAN
BEGIN:VEVENT
UID:b3a1a878ea670d0cdfbf0540afa18d6a
DTSTAMP:20260420T071005Z
SUMMARY:BT's Bonfire and Bonding for Grades 7 & 8
DESCRIPTION:UJA Federation of Greater Toronto\nJewish Toronto Calendar\nhtt
 ps://jewishtoronto.com/calendar/bts-bonfire-and-bonding-for-grades-7--8-16
 34665771\n\nJoin Sylvie\, Aya\, and Liel for a fun night featuring marshma
 llow roasting\, great friends\, and lots of fun! Pre-registration required
 . To pre-register\, visit https://bethtzedectoronto.shulcloud.com/form/bon
 fire-and-bonding-for-grades-7-8.
DTSTART;TZID=America/Toronto:20211027T193000
DTEND;TZID=America/Toronto:20211027T203000
END:VEVENT
END:VCALENDAR
