BEGIN:VCALENDAR
PRODID:-//eluceo/ical//2.0/EN
VERSION:2.0
CALSCALE:GREGORIAN
BEGIN:VEVENT
UID:d79aaaf710e5dc72fa369ebc7091f78f
DTSTAMP:20260425T115645Z
SUMMARY:BT Kef (Hol Hamoed Fun)
DESCRIPTION:UJA Federation of Greater Toronto\nJewish Toronto Calendar\nhtt
 ps://jewishtoronto.com/calendar/bt-kef-hol-hamoed-fun-1586359979\n\nJoin B
 eth Tzedec's youth leaders Sylvie and Shirel along with our BT Teens for a
 n interactive\, awesome and meaningful meeting where we will exercise\, ha
 nd on arts and crafts\, cooking\, dancing and lots of Kef. Today's fun act
 ivities include:\n\n10:30 am — Exercise\n10:45 am — Cooking (Passover 
 pizza)\n11:00 am — Lunchtime - we'll eat lunch virtually together!\n\nTh
 is program will be delivered on Zoom. For Zoom information and passwords\,
  email Shirel at sbarkan@beth-tzedec.org.
DTSTART;TZID=America/Toronto:20200413T103000
DTEND;TZID=America/Toronto:20200413T111500
END:VEVENT
END:VCALENDAR
