BEGIN:VCALENDAR
PRODID:-//eluceo/ical//2.0/EN
VERSION:2.0
CALSCALE:GREGORIAN
BEGIN:VEVENT
UID:11d03bcb070822abd34b9aa81bf8e396
DTSTAMP:20260425T022834Z
SUMMARY:Brunch with Authors
DESCRIPTION:UJA Federation of Greater Toronto\nJewish Toronto Calendar\nhtt
 ps://jewishtoronto.com/calendar/brunch-with-authors-1582051353\n\nAdult Ed
 ucation is pleased to welcome two 2019 Canadian Jewish Literary Award Winn
 ers. Jennifer Robson\, Fiction winner for The Gown\, and Anne Dublin\, You
 th winner for A Cage Without Bars.
DTSTART;TZID=America/Toronto:20200223T100000
DTEND;TZID=America/Toronto:20200223T120000
END:VEVENT
END:VCALENDAR
