BEGIN:VCALENDAR
PRODID:-//eluceo/ical//2.0/EN
VERSION:2.0
CALSCALE:GREGORIAN
BEGIN:VEVENT
UID:7a67596b99c41558a55aca2ed6693d36
DTSTAMP:20260424T070304Z
SUMMARY:Broken Promises: Kim Wheatley
DESCRIPTION:UJA Federation of Greater Toronto\nJewish Toronto Calendar\nhtt
 ps://jewishtoronto.com/calendar/broken-promises-kim-wheatley-1452012013\n\
 nKim Wheatley\, an Anishinaabe band member of Shawanaga First Nation will 
 be exploring treaty relationships\, how this impacts Canadians and navigat
 ing historic agreements between the government and First Nations communiti
 es.
DTSTART;TZID=America/Toronto:20160129T200000
DTEND;TZID=America/Toronto:20160129T210000
END:VEVENT
END:VCALENDAR
