BEGIN:VCALENDAR
PRODID:-//eluceo/ical//2.0/EN
VERSION:2.0
CALSCALE:GREGORIAN
BEGIN:VEVENT
UID:efc123bb916f2c344662ab74ee77a0cb
DTSTAMP:20260422T050912Z
SUMMARY:"Broadway Shabbat" at The Song Shul
DESCRIPTION:UJA Federation of Greater Toronto\nJewish Toronto Calendar\nhtt
 ps://jewishtoronto.com/calendar/broadway-shabbat-at-the-song-shul-15440561
 95\n\nRETHINK SHUL. The Song Shul's renowned Shabbat morning service celeb
 rates the music of Broadway! There is no other service like this anywhere.
  Join us for music\, meaning and inspiration. Cantor Simon Spiro and the a
 mazing Toronto Festival Singers lead the traditional davening with new and
  exciting a cappella vocal arrangements of familiar melodies from favourit
 e Broadway shows.\nGuest speaker is Noah Weisberg\, the star of Charlie an
 d the Chocolate Factory -- Willy Wonka himself!\n\nFree admis...
DTSTART;TZID=America/Toronto:20181215T090000
DTEND;TZID=America/Toronto:20181215T113000
END:VEVENT
END:VCALENDAR
