BEGIN:VCALENDAR
PRODID:-//eluceo/ical//2.0/EN
VERSION:2.0
CALSCALE:GREGORIAN
BEGIN:VEVENT
UID:b4908f87ef93b197551e1a4f45728e3a
DTSTAMP:20260421T115431Z
SUMMARY:Bring Your Own Lunch and Learn Day (Woman of 1000 Faces - Afternoon
 )
DESCRIPTION:UJA Federation of Greater Toronto\nJewish Toronto Calendar\nhtt
 ps://jewishtoronto.com/calendar/bring-your-own-lunch-and-learn-day-woman-o
 f-1000-faces-afternoon\n\nCome for our morning Book Club and stay for our 
 afternoon cultural Drop-in Program!\n\nThursday January 29\n\nBook Club\n1
 1:00 am - 12:30 pm\nAs a follow-up to our fall Meet the Author event\, we 
 will be discussing Howard Shrier's award-winning crime fiction novel\, Buf
 falo Jump. FREE - please RSVP to 416 924-6211 x 155\n\nthen...\n\nWoman of
  1000 Faces\nDoors open: 1:00 pm\nProgram: 1:30 - 3:00 pm\n\nWith Emmy awa
 rd-winning makeup artist Beverley Schechtman.\nHave you ever seen an Emmy 
 Award u...
DTSTART;TZID=America/Toronto:20150129T110000
DTEND;TZID=America/Toronto:20150129T123000
END:VEVENT
END:VCALENDAR
