BEGIN:VCALENDAR
PRODID:-//eluceo/ical//2.0/EN
VERSION:2.0
CALSCALE:GREGORIAN
BEGIN:VEVENT
UID:8666befc77ce1a10b052d07f0756910a
DTSTAMP:20260424T160346Z
SUMMARY:Bring Your Own Lunch and Learn Day (Book Club - Morning)
DESCRIPTION:UJA Federation of Greater Toronto\nJewish Toronto Calendar\nhtt
 ps://jewishtoronto.com/calendar/bring-your-own-lunch-and-learn-day-book-cl
 ub-morning\n\nCome for our morning Book Club and stay for our afternoon cu
 ltural Drop-in Program!\n\nThursday January 29\n\nBook Club\n11:00 am - 12
 :30 pm\nAs a follow-up to our fall Meet the Author event\, we will be disc
 ussing Howard Shrier's award-winning crime fiction novel\, Buffalo Jump. F
 REE - please RSVP to 416 924-6211 x 155\n\nthen...\n\nWoman of 1000 Faces\
 nDoors open: 1:00 pm\nProgram: 1:30 - 3:00 pm\n\nWith Emmy award-winning m
 akeup artist Beverley Schechtman.\nHave you ever seen an Emmy Award u...
DTSTART;TZID=America/Toronto:20150129T110000
DTEND;TZID=America/Toronto:20150129T123000
END:VEVENT
END:VCALENDAR
