BEGIN:VCALENDAR
PRODID:-//eluceo/ical//2.0/EN
VERSION:2.0
CALSCALE:GREGORIAN
BEGIN:VEVENT
UID:f45cde9da5e2cd0400ae33072cf4e5b9
DTSTAMP:20260420T174050Z
SUMMARY:Bridge Program Lessons at Shaar Shalom
DESCRIPTION:UJA Federation of Greater Toronto\nJewish Toronto Calendar\nhtt
 ps://jewishtoronto.com/calendar/bridge-program-lessons-at-shaar-shalom\n\n
 Play begins at 1:30pm
DTSTART;TZID=America/Toronto:20140310T123000
DTEND;TZID=America/Toronto:20140310T160000
END:VEVENT
END:VCALENDAR
