BEGIN:VCALENDAR
PRODID:-//eluceo/ical//2.0/EN
VERSION:2.0
CALSCALE:GREGORIAN
BEGIN:VEVENT
UID:fdfc6a8251dbb697574860ab9231331c
DTSTAMP:20260421T115649Z
SUMMARY:Brides of Shabbat and Shavuot — Challah Cover Workshop with Temma
  Gentles
DESCRIPTION:UJA Federation of Greater Toronto\nJewish Toronto Calendar\nhtt
 ps://jewishtoronto.com/calendar/brides-of-shabbat-and-shavuot--challah-cov
 er-workshop-with-temma-gentles-1492897559\n\nA Temple Sinai Program — Br
 ides of Shabbat and Shavuot — Challah Cover Workshop with Artist-in-Resi
 dence Temma Gentles\n\nLove is in the air! The theme of marriage permeates
  Shabbat and Shavuot. In fact\, the challah cover can be compared to a bri
 dal veil. With our Artist-in-Residence Temma Gentles\, we will use stencil
 s to create our very own “bridal” challah cover. No art experience is 
 necessary. Cost: Members: $18\, Non-Members: $25. F
DTSTART;TZID=America/Toronto:20170528T101500
DTEND;TZID=America/Toronto:20170528T114500
END:VEVENT
END:VCALENDAR
