BEGIN:VCALENDAR
PRODID:-//eluceo/ical//2.0/EN
VERSION:2.0
CALSCALE:GREGORIAN
BEGIN:VEVENT
UID:0498739d6b7990242e14ad81ef57e586
DTSTAMP:20260423T220118Z
SUMMARY:Bricks\, tiles\, and stones… clues to decipher ancient synagogues
DESCRIPTION:UJA Federation of Greater Toronto\nJewish Toronto Calendar\nhtt
 ps://jewishtoronto.com/calendar/bricks-tiles-and-stones-clues-to-decipher-
 ancient-synagogues-1508430364\n\nISRAEL REVISITED: A RENDEZ-VOUS WITH ROCK
 S\, ROOTS\, RELIGION\, RESTORATION 4 lectures\n\nWednesday\, October 25\, 
 2017 7:30-9:00 pm Renewed Jewish Identity & Presence in Israel\nSpeaker: R
 abbi Jennifer Gorman\n\nThursday\, November 30\, 2017 7:30-9:00 pm Steppin
 g out of our Jewish Shoes\nSpeaker: Michael Rubin\n\nThursday\, January 25
 \, 2018 7:30-9:00 pm Environment and Nature in Israel\nSpeaker: Lance Davi
 s\, CEO of JNF Canada\n\nThursday\, February 22\, 2018 7:30-9:00 pm Bricks
 \, tiles\, and stones… c...
DTSTART;TZID=America/Toronto:20180222T193000
DTEND;TZID=America/Toronto:20180222T213000
END:VEVENT
END:VCALENDAR
