BEGIN:VCALENDAR
PRODID:-//eluceo/ical//2.0/EN
VERSION:2.0
CALSCALE:GREGORIAN
BEGIN:VEVENT
UID:bf8b15f8d399b25267cb1ceeac45391c
DTSTAMP:20260423T054314Z
SUMMARY:Brett Stephens at Beth Sholom Synagogue
DESCRIPTION:UJA Federation of Greater Toronto\nJewish Toronto Calendar\nhtt
 ps://jewishtoronto.com/calendar/brett-stephens-at-beth-sholom-synagogue\n\
 nAmerican journalist\, Pulitzer prize winner\, former editor-in-chief of t
 he Jerusalem Post and foreign affairs columnist for the Wall Street Journa
 l. Brett Stephen’s incisive columns on American foreign policy and domes
 tic politics are often enlivened by a contrarian twist. Stephen’s will b
 e discussing “Israel\, the Middle East and the West.” Generously spons
 ored by George and Kitty Grossman & Jeff and Honey Rubenstein.
DTSTART;TZID=America/Toronto:20150311T193000
DTEND;TZID=America/Toronto:20150311T213000
END:VEVENT
END:VCALENDAR
