BEGIN:VCALENDAR
PRODID:-//eluceo/ical//2.0/EN
VERSION:2.0
CALSCALE:GREGORIAN
BEGIN:VEVENT
UID:93e95ac49f9d726d939c158abe20218d
DTSTAMP:20260424T055027Z
SUMMARY:Bret Stephens at Adath Israel
DESCRIPTION:UJA Federation of Greater Toronto\nJewish Toronto Calendar\nhtt
 ps://jewishtoronto.com/calendar/bret-stephens-at-adath-israel-1543959563\n
 \nPulitzer Prize winning American journalist\,\neditor and political comme
 ntator.
DTSTART;TZID=America/Toronto:20190430T193000
DTEND;TZID=America/Toronto:20190430T213000
END:VEVENT
END:VCALENDAR
