BEGIN:VCALENDAR
PRODID:-//eluceo/ical//2.0/EN
VERSION:2.0
CALSCALE:GREGORIAN
BEGIN:VEVENT
UID:0aa57a2cc8bc836bacfad5f2cb562a92
DTSTAMP:20260425T211341Z
SUMMARY:Bree-AH The Body: Gaga-people
DESCRIPTION:UJA Federation of Greater Toronto\nJewish Toronto Calendar\nhtt
 ps://jewishtoronto.com/calendar/bree-ah-the-body-gaga-people-1634666475\n\
 nLast year\, we launched Bree-AH with the Creativity Festival at Beth Tzed
 ec.\n\nBree-AH is back with a three-part series called Bree-AH / The Body.
  Join us for the first session in this series\, a celebration of movement 
 in a Gaga/people class led by Israeli teacher Omri Drumlevich.\n\nGaga/peo
 ple classes offer a creative framework in which participants connect with 
 their bodies and \nexperience the pleasure of movement in a welcoming\, in
 clusive and accepting environment for all. We will begin...
DTSTART;TZID=America/Toronto:20211107T110000
DTEND;TZID=America/Toronto:20211107T120000
END:VEVENT
END:VCALENDAR
