BEGIN:VCALENDAR
PRODID:-//eluceo/ical//2.0/EN
VERSION:2.0
CALSCALE:GREGORIAN
BEGIN:VEVENT
UID:2ec557f8faf0408ff4903021acc99bbc
DTSTAMP:20260422T054042Z
SUMMARY:Bree-AH - The Body: Yoga\, Movement and Torah with Cantor Lizzie Sh
 ammash
DESCRIPTION:UJA Federation of Greater Toronto\nJewish Toronto Calendar\nhtt
 ps://jewishtoronto.com/calendar/bree-ah---the-body-yoga-movement-and-torah
 -with-cantor-lizzie-shammash-1643641386\n\nBree-AH/The Body is a series in
 viting participants into adventures that deepen relationship with our bodi
 es. Renowned Yoga Teacher and Cantor Lizzie Shammash will lead an all-leve
 l yoga and movement classes informed by the wisdom of Jewish spiritual tea
 chings. Mindful body practices help us find shelter right where we are\, i
 n our bodies\, in this very moment. Join Lizzie as she expertly guides us 
 in a session designed to relieve stress and stimulate rejuvenation and hea
 ling as we increase...
DTSTART;TZID=America/Toronto:20220213T110000
DTEND;TZID=America/Toronto:20220213T121500
END:VEVENT
END:VCALENDAR
