BEGIN:VCALENDAR
PRODID:-//eluceo/ical//2.0/EN
VERSION:2.0
CALSCALE:GREGORIAN
BEGIN:VEVENT
UID:e071ade6b6d7e5c103c11ca1a43cc2e6
DTSTAMP:20260421T222033Z
SUMMARY:Breaking the Stigma - Depression and Suicide in the Jewish Communit
 y
DESCRIPTION:UJA Federation of Greater Toronto\nJewish Toronto Calendar\nhtt
 ps://jewishtoronto.com/calendar/breaking-the-stigma-depression-and-suicide
 -in-the-jewish-community\n\n
DTSTART;TZID=America/Toronto:20160204T190000
DTEND;TZID=America/Toronto:20160204T210000
END:VEVENT
END:VCALENDAR
