BEGIN:VCALENDAR
PRODID:-//eluceo/ical//2.0/EN
VERSION:2.0
CALSCALE:GREGORIAN
BEGIN:VEVENT
UID:eb60caa13cfdb2722b333358c6166a10
DTSTAMP:20260425T212443Z
SUMMARY:JNF: Breakfast for Israel
DESCRIPTION:UJA Federation of Greater Toronto\nJewish Toronto Calendar\nhtt
 ps://jewishtoronto.com/calendar/breakfast-for-israel-1674483231\n\nInvitat
 ion-only event.
DTSTART;TZID=America/Toronto:20230608T073000
DTEND;TZID=America/Toronto:20230608T090000
END:VEVENT
END:VCALENDAR
