BEGIN:VCALENDAR
PRODID:-//eluceo/ical//2.0/EN
VERSION:2.0
CALSCALE:GREGORIAN
BEGIN:VEVENT
UID:2e1ee8fbba47302d5599afdadd1f2271
DTSTAMP:20260422T073638Z
SUMMARY:Brain Food are you Really What you Eat
DESCRIPTION:UJA Federation of Greater Toronto\nJewish Toronto Calendar\nhtt
 ps://jewishtoronto.com/calendar/brain-food-are-you-really-what-you-eat\n\n
 Dr. Carol Greenwood\, Rotman Research Institute at Baycrest discusses how 
 your dietary choices may be affecting the way your brain ages. Improve you
 r cognitive functions simply by what you eat! Doors open at 1 pm
DTSTART;TZID=America/Toronto:20140515T133000
DTEND;TZID=America/Toronto:20140515T153000
END:VEVENT
END:VCALENDAR
