BEGIN:VCALENDAR
PRODID:-//eluceo/ical//2.0/EN
VERSION:2.0
CALSCALE:GREGORIAN
BEGIN:VEVENT
UID:3379ce2ba2bf53f553cb744e3ffd99dc
DTSTAMP:20260423T112507Z
SUMMARY:Boundaries and Bridges with Dr. Tova Hartman at Beth Tzedec
DESCRIPTION:UJA Federation of Greater Toronto\nJewish Toronto Calendar\nhtt
 ps://jewishtoronto.com/calendar/boundaries-and-bridges-with-dr-tova-hartma
 n-at-beth-tzedec-1552344061\n\nBoundaries and Bridges with Dr. Tova Hartma
 n\, Israeli scholar\, award-winning author and social entrepreneur.\nPulpi
 t Presentation\, service begins at 8:45 am - Mirrors of Women: Desire\, De
 liverance and Devotion\nLunch and Learn Presentation following services - 
 Can We Live Together? Marriage\, Kashrut and Shabbat\nCost: $22/adult\; $1
 0/child (ages 5-14)\; $50 family maximum.
DTSTART;TZID=America/Toronto:20190330T084500
DTEND;TZID=America/Toronto:20190330T133000
END:VEVENT
END:VCALENDAR
