BEGIN:VCALENDAR
PRODID:-//eluceo/ical//2.0/EN
VERSION:2.0
CALSCALE:GREGORIAN
BEGIN:VEVENT
UID:97e91bf61d4fe3009a380957e7923a30
DTSTAMP:20260424T065006Z
SUMMARY:Books & Biscotti - Temple Emanu-El 
DESCRIPTION:UJA Federation of Greater Toronto\nJewish Toronto Calendar\nhtt
 ps://jewishtoronto.com/calendar/books-biscotti-temple-emanu-el-4\n\nBooks 
 & Biscotti - Lovers at the Chameleon Club\, Paris 1932\, review by Janna N
 adler\n\nThe book review start at 1 p.m. for coffee/tea and desserts with 
 the review at 1:30 p.m. sharp until 3 p.m.\n\nThey are free to Temple memb
 ers and $10 per review for non-members.
DTSTART;TZID=America/Toronto:20160512T130000
DTEND;TZID=America/Toronto:20160512T150000
END:VEVENT
END:VCALENDAR
