BEGIN:VCALENDAR
PRODID:-//eluceo/ical//2.0/EN
VERSION:2.0
CALSCALE:GREGORIAN
BEGIN:VEVENT
UID:61c78888ecf822df3910dc50aa87c047
DTSTAMP:20260422T003036Z
SUMMARY:Books and Bagels
DESCRIPTION:UJA Federation of Greater Toronto\nJewish Toronto Calendar\nhtt
 ps://jewishtoronto.com/calendar/books-and-bagels-1505397960\n\nWith Leonar
 d Wise. Discussing his book Charles Pachter\, Canada's Artist.\n\nLeonard 
 is a lawyer with a parallel career as a television performer\, food critic
 \, and screenwriter. He is the author of seven books\, including the bests
 elling Toronto Street Names. He lives in Toronto.\n\nSunday morning 10:00 
 am. $5 admission. Register online for these fabulous programs. This is the
  second of 3 Books and Bagels.
DTSTART;TZID=America/Toronto:20180211T100000
DTEND;TZID=America/Toronto:20180211T120000
END:VEVENT
END:VCALENDAR
