BEGIN:VCALENDAR
PRODID:-//eluceo/ical//2.0/EN
VERSION:2.0
CALSCALE:GREGORIAN
BEGIN:VEVENT
UID:2c630fc83ce1d952e1c09f20e29409a3
DTSTAMP:20260420T171347Z
SUMMARY:Books and Bagels
DESCRIPTION:UJA Federation of Greater Toronto\nJewish Toronto Calendar\nhtt
 ps://jewishtoronto.com/calendar/books-and-bagels-1505397597\n\nFirst of 3 
 Sunday morning book reviews.\n\nWith Ellin Bessner. Reviewing Double Threa
 t: Canadian Jews\, the Military and World War II.\n\nEllin is a professor 
 of journalism at Centennial College in Toronto and taught at Seneca Colleg
 e and Ryerson University.\nShe graduated with a degree in journalism and p
 olitical science from Carleton University. Her career as a journalist took
  her from Canada and around the world\, working for CTV News and CBC News\
 , and also for the Globe and Mail\, The Canadi...
DTSTART;TZID=America/Toronto:20171105T100000
DTEND;TZID=America/Toronto:20171105T120000
END:VEVENT
END:VCALENDAR
