BEGIN:VCALENDAR
PRODID:-//eluceo/ical//2.0/EN
VERSION:2.0
CALSCALE:GREGORIAN
BEGIN:VEVENT
UID:1b61088bc891dd323813e5cdf938b552
DTSTAMP:20260421T080326Z
SUMMARY:Books & Bagels: Session 3
DESCRIPTION:UJA Federation of Greater Toronto\nJewish Toronto Calendar\nhtt
 ps://jewishtoronto.com/calendar/books--bagels-session-3-1635348545\n\nBeth
  Emeth presents book & Bagels: Session 3Join us as author Rachel Maizes re
 views her book "Other People's Pets."Register Here: https://www.beby.org/e
 vent/Jan16 Members - no charge Non Members -$10
DTSTART;TZID=America/Toronto:20220116T100000
DTEND;TZID=America/Toronto:20220116T113000
END:VEVENT
END:VCALENDAR
