BEGIN:VCALENDAR
PRODID:-//eluceo/ical//2.0/EN
VERSION:2.0
CALSCALE:GREGORIAN
BEGIN:VEVENT
UID:3d3e12592f2c25eaa57c39d352d1b107
DTSTAMP:20260423T170324Z
SUMMARY:Book Launch with Dr. Seymour (Epi) Epstein
DESCRIPTION:UJA Federation of Greater Toronto\nJewish Toronto Calendar\nhtt
 ps://jewishtoronto.com/calendar/book-launch-with-dr-seymour-epi-epstein-15
 49320821\n\nAn entirely new story of Esther: You thought you knew the stor
 y.\nBooks for sale and signing
DTSTART;TZID=America/Toronto:20190313T193000
DTEND;TZID=America/Toronto:20190313T213000
END:VEVENT
END:VCALENDAR
