BEGIN:VCALENDAR
PRODID:-//eluceo/ical//2.0/EN
VERSION:2.0
CALSCALE:GREGORIAN
BEGIN:VEVENT
UID:9bfb204bf6683be796ac10e00e8cd081
DTSTAMP:20260423T042521Z
SUMMARY:Book Launch at the Bayt
DESCRIPTION:UJA Federation of Greater Toronto\nJewish Toronto Calendar\nhtt
 ps://jewishtoronto.com/calendar/book-launch-at-the-bayt\n\nBook Launch at 
 the BAYT to mark the yahrzeit of maimonides (The "Rambam").\n\n 
DTSTART;TZID=America/Toronto:20150110T193000
DTEND;TZID=America/Toronto:20150110T213000
END:VEVENT
END:VCALENDAR
