BEGIN:VCALENDAR
PRODID:-//eluceo/ical//2.0/EN
VERSION:2.0
CALSCALE:GREGORIAN
BEGIN:VEVENT
UID:3528bde48be5c8c2440032487f66b257
DTSTAMP:20260423T214538Z
SUMMARY:Book Club: Medicine Walk
DESCRIPTION:UJA Federation of Greater Toronto\nJewish Toronto Calendar\nhtt
 ps://jewishtoronto.com/calendar/book-club-medicine-walk-1518116261\n\nExch
 ange ideas about Richard Wagamese’s novel about love\, friendship and co
 urage. Discussion facilitated by Beverley Fingerhut.
DTSTART;TZID=America/Toronto:20180222T110000
DTEND;TZID=America/Toronto:20180222T123000
END:VEVENT
END:VCALENDAR
