BEGIN:VCALENDAR
PRODID:-//eluceo/ical//2.0/EN
VERSION:2.0
CALSCALE:GREGORIAN
BEGIN:VEVENT
UID:34d7e05860da2ffd6d3c9fe449724fb1
DTSTAMP:20260421T215049Z
SUMMARY:Bonds & Beer in a Boardroom
DESCRIPTION:UJA Federation of Greater Toronto\nJewish Toronto Calendar\nhtt
 ps://jewishtoronto.com/calendar/bonds--beer-in-a-boardroom-1485459774\n\nI
 srael Bonds New Leadership Event
DTSTART;TZID=America/Toronto:20170309T173000
DTEND;TZID=America/Toronto:20170309T193000
END:VEVENT
END:VCALENDAR
