BEGIN:VCALENDAR
PRODID:-//eluceo/ical//2.0/EN
VERSION:2.0
CALSCALE:GREGORIAN
BEGIN:VEVENT
UID:a443fc7c6907d4769ffd9be719c2a538
DTSTAMP:20260421T000358Z
SUMMARY:Boehringer Ingelheim (Canada) Ltd. and Sinai Health System
DESCRIPTION:UJA Federation of Greater Toronto\nJewish Toronto Calendar\nhtt
 ps://jewishtoronto.com/calendar/boehringer-ingelheim-canada-ltd-and-sinai-
 health-system\n\nA celebration of a partnership between Boehringer Ingelhe
 im (Canada) Inc. and Sinai Health System that will advance diabetes resear
 ch and care for the next generation of patients.
DTSTART;TZID=America/Toronto:20171030T180000
DTEND;TZID=America/Toronto:20171030T200000
END:VEVENT
END:VCALENDAR
