BEGIN:VCALENDAR
PRODID:-//eluceo/ical//2.0/EN
VERSION:2.0
CALSCALE:GREGORIAN
BEGIN:VEVENT
UID:bf5ea198eaac2c6ad931473a1145733b
DTSTAMP:20260422T022655Z
SUMMARY:Bnei Akiva Yom Yerushalayim Event
DESCRIPTION:UJA Federation of Greater Toronto\nJewish Toronto Calendar\nhtt
 ps://jewishtoronto.com/calendar/bnei-akiva-yom-yerushalayim-event-16478269
 35\n\nJoin us for a fantastic Bnei Akiva of Toronto event on Yom Yerushala
 yim. Further details to be announced soon.
DTSTART;TZID=America/Toronto:20220529T170000
DTEND;TZID=America/Toronto:20220529T220000
END:VEVENT
END:VCALENDAR
