BEGIN:VCALENDAR
PRODID:-//eluceo/ical//2.0/EN
VERSION:2.0
CALSCALE:GREGORIAN
BEGIN:VEVENT
UID:fd56a9d90058d3511b66f59aef8acb2a
DTSTAMP:20260421T142036Z
SUMMARY:Bnei Akiva Schools Yom Yerushalayim Dinner
DESCRIPTION:UJA Federation of Greater Toronto\nJewish Toronto Calendar\nhtt
 ps://jewishtoronto.com/calendar/bnei-akiva-schools-yom-yerushalayim-dinner
 -1495114883\n\nCelebrating Our Past\, Driving Into Our Future\n\nSpecial D
 inner Celebration With Bnei Akiva Schools\n\nHonouring Women's Leadership:
  Ulpanat Orot's Student Council Presidents 1976 - 2018\n\nCocktails: 5:30p
 m\nDinner: 6:00pm
DTSTART;TZID=America/Toronto:20180513T173000
DTEND;TZID=America/Toronto:20180513T220000
END:VEVENT
END:VCALENDAR
