BEGIN:VCALENDAR
PRODID:-//eluceo/ical//2.0/EN
VERSION:2.0
CALSCALE:GREGORIAN
BEGIN:VEVENT
UID:e0d350998b6bcc3bf629dd6dcef3440d
DTSTAMP:20260421T060422Z
SUMMARY:Bnei Akiva Schools Open House
DESCRIPTION:UJA Federation of Greater Toronto\nJewish Toronto Calendar\nhtt
 ps://jewishtoronto.com/calendar/bnei-akiva-schools-open-house-1625238466\n
 \nBnei Akiva Schools open houses:  Ulpanat Orot open house - 9am-12pm Yesh
 ivat Or Chaim open house - 2pm-5pm
DTSTART;TZID=America/Toronto:20211017T090000
DTEND;TZID=America/Toronto:20211017T170000
END:VEVENT
END:VCALENDAR
