BEGIN:VCALENDAR
PRODID:-//eluceo/ical//2.0/EN
VERSION:2.0
CALSCALE:GREGORIAN
BEGIN:VEVENT
UID:e5b4a5befdabb9d74a8dc3a4d4278221
DTSTAMP:20260421T220829Z
SUMMARY:Bnei Akiva Schools Farewell Reception
DESCRIPTION:UJA Federation of Greater Toronto\nJewish Toronto Calendar\nhtt
 ps://jewishtoronto.com/calendar/bnei-akiva-schools-farewell-reception-1556
 727106\n\nOn Sunday\, June 2\, 2019\, please join Bnei Akiva Schools for a
  Farewell Brunch Reception honouring our Administrators\, Faculty and Shli
 chim.\n\n* * *\nMrs. Nicky Kagan\nMrs. Sara Munk\nMrs. Kendra Thompson\n\n
 Rabbi Gal and Mrs. Talyah Ben-Meir\nRabbi Aviad and Mrs. Hodaya Pituchey-C
 hotam\nMr. Yaakov Rand\nRabbi Daniel and Mrs. Yardena Thwaites\nMr. Etan a
 nd Mrs. Nili Zivan\n* * *\nThrough their tireless dedication\, guidance an
 d instruction\, generations of students at Bnei Akiva Schools have gr...
DTSTART;TZID=America/Toronto:20190602T103000
DTEND;TZID=America/Toronto:20190602T133000
END:VEVENT
END:VCALENDAR
