BEGIN:VCALENDAR
PRODID:-//eluceo/ical//2.0/EN
VERSION:2.0
CALSCALE:GREGORIAN
BEGIN:VEVENT
UID:9576804d6b64813e29836b311a26c91a
DTSTAMP:20260422T010155Z
SUMMARY:Bnei Akiva Schools Chazara Tova Reception
DESCRIPTION:UJA Federation of Greater Toronto\nJewish Toronto Calendar\nhtt
 ps://jewishtoronto.com/calendar/bnei-akiva-schools-chazara-tova-reception-
 1489605221\n\nPlease join Bnei Akiva Schools of Toronto for an evening coc
 ktail reception to honour and show appreciation to our dedicated educators
  who are returning to Israel.\n\nRabbi Eli and Mrs. Yael Gelernter\n\nMr. 
 Jonny & Mrs. Belinda Lipczer\n\nRabbi Elan & Mrs. Nomi Mazer\n\nRabbi Yair
  & Mrs. Nitza Spitz\n\nWith an inspirational tribute to the Religious Zion
 ist Shlichut community by special guest speaker\, Rabbi Dr. Shlomo Riskin\
 , Chancellor of Ohr Torah Stone and Chief Rabbi of Efrat.\n\nRegister...
DTSTART;TZID=America/Toronto:20170608T190000
DTEND;TZID=America/Toronto:20170608T220000
END:VEVENT
END:VCALENDAR
