BEGIN:VCALENDAR
PRODID:-//eluceo/ical//2.0/EN
VERSION:2.0
CALSCALE:GREGORIAN
BEGIN:VEVENT
UID:89e1d80a21527172a729df287926a26f
DTSTAMP:20260421T085747Z
SUMMARY:Bnei Akiva Schools - 12th Annual Golf Tournament
DESCRIPTION:UJA Federation of Greater Toronto\nJewish Toronto Calendar\nhtt
 ps://jewishtoronto.com/calendar/bnei-akiva-schools---12th-annual-golf-tour
 nament-1446047239\n\nIKO Industries Ltd. is proud to present its 12th annu
 al IKO Charity Golf Classic in support of our local Bnei Akiva High School
 s. The tournament is scheduled for September 8\, 2016 at Station Creek Gol
 f Club in Gormley\, Ontario.
DTSTART;TZID=America/Toronto:20160908T090000
DTEND;TZID=America/Toronto:20160908T200000
END:VEVENT
END:VCALENDAR
